BEGIN:VCALENDAR
VERSION:2.0
PRODID:-//Village of Mulliken - ECPv6.15.20//NONSGML v1.0//EN
CALSCALE:GREGORIAN
METHOD:PUBLISH
X-WR-CALNAME:Village of Mulliken
X-ORIGINAL-URL:https://villageofmulliken.org
X-WR-CALDESC:Events for Village of Mulliken
REFRESH-INTERVAL;VALUE=DURATION:PT1H
X-Robots-Tag:noindex
X-PUBLISHED-TTL:PT1H
BEGIN:VTIMEZONE
TZID:UTC
BEGIN:STANDARD
TZOFFSETFROM:+0000
TZOFFSETTO:+0000
TZNAME:UTC
DTSTART:20250101T000000
END:STANDARD
END:VTIMEZONE
BEGIN:VEVENT
DTSTART;TZID=UTC:20260511T190000
DTEND;TZID=UTC:20260511T190000
DTSTAMP:20260424T124013
CREATED:20260303T002709Z
LAST-MODIFIED:20260409T131149Z
UID:1629-1778526000-1778526000@villageofmulliken.org
SUMMARY:Council Meeting Town Hall\, 7:00p.m.
DESCRIPTION:
URL:https://villageofmulliken.org/event/council-meeting-town-hall-700p-m-15/
END:VEVENT
BEGIN:VEVENT
DTSTART;TZID=UTC:20260601T190000
DTEND;TZID=UTC:20260601T190000
DTSTAMP:20260424T124013
CREATED:20260303T002759Z
LAST-MODIFIED:20260409T131239Z
UID:1631-1780340400-1780340400@villageofmulliken.org
SUMMARY:Council Meeting Town Hall\, 7:00p.m.
DESCRIPTION:
URL:https://villageofmulliken.org/event/council-meeting-town-hall-700p-m-16/
END:VEVENT
BEGIN:VEVENT
DTSTART;TZID=UTC:20260713T190000
DTEND;TZID=UTC:20260713T190000
DTSTAMP:20260424T124013
CREATED:20260303T002922Z
LAST-MODIFIED:20260409T131251Z
UID:1633-1783969200-1783969200@villageofmulliken.org
SUMMARY:Council Meeting Town Hall\, 7:00p.m
DESCRIPTION:
URL:https://villageofmulliken.org/event/council-meeting-town-hall-700p-m-17/
END:VEVENT
BEGIN:VEVENT
DTSTART;TZID=UTC:20260803T190000
DTEND;TZID=UTC:20260803T190000
DTSTAMP:20260424T124013
CREATED:20260303T003020Z
LAST-MODIFIED:20260409T131304Z
UID:1635-1785783600-1785783600@villageofmulliken.org
SUMMARY:Council Meeting Town Hall\, 7:00p.m
DESCRIPTION:
URL:https://villageofmulliken.org/event/council-meeting-town-hall-700p-m-18/
END:VEVENT
BEGIN:VEVENT
DTSTART;TZID=UTC:20260914T190000
DTEND;TZID=UTC:20260914T190000
DTSTAMP:20260424T124013
CREATED:20260303T003208Z
LAST-MODIFIED:20260409T131316Z
UID:1637-1789412400-1789412400@villageofmulliken.org
SUMMARY:Council Meeting Town Hall\, 7:00p.m
DESCRIPTION:
URL:https://villageofmulliken.org/event/council-meeting-town-hall-700p-m-19/
END:VEVENT
BEGIN:VEVENT
DTSTART;TZID=UTC:20261005T190000
DTEND;TZID=UTC:20261005T190000
DTSTAMP:20260424T124013
CREATED:20260303T003453Z
LAST-MODIFIED:20260409T131435Z
UID:1639-1791226800-1791226800@villageofmulliken.org
SUMMARY:Council Meeting Townhall\, 7:00p.m
DESCRIPTION:
URL:https://villageofmulliken.org/event/council-meeting-ownhall-700p-m/
END:VEVENT
BEGIN:VEVENT
DTSTART;TZID=UTC:20261102T190000
DTEND;TZID=UTC:20261102T190000
DTSTAMP:20260424T124013
CREATED:20260303T003611Z
LAST-MODIFIED:20260409T131451Z
UID:1642-1793646000-1793646000@villageofmulliken.org
SUMMARY:Council Meeting Town Hall\, 7:00p.m
DESCRIPTION:
URL:https://villageofmulliken.org/event/council-meeting-town-hall-700p-m-20/
END:VEVENT
BEGIN:VEVENT
DTSTART;TZID=UTC:20261207T190000
DTEND;TZID=UTC:20261207T190000
DTSTAMP:20260424T124013
CREATED:20260303T003824Z
LAST-MODIFIED:20260409T131508Z
UID:1644-1796670000-1796670000@villageofmulliken.org
SUMMARY:Council Meeting Town Hall\, 7:00p.m
DESCRIPTION:
URL:https://villageofmulliken.org/event/council-meeting-town-hall-700p-m-21/
END:VEVENT
BEGIN:VEVENT
DTSTART;TZID=UTC:20270104T190000
DTEND;TZID=UTC:20270104T190000
DTSTAMP:20260424T124013
CREATED:20260303T004116Z
LAST-MODIFIED:20260303T004404Z
UID:1646-1799089200-1799089200@villageofmulliken.org
SUMMARY:Council Meeting Town Hall\, 7:00p.m
DESCRIPTION:
URL:https://villageofmulliken.org/event/council-meeting-town-hall-700p-m-22/
END:VEVENT
BEGIN:VEVENT
DTSTART;TZID=UTC:20270201T190000
DTEND;TZID=UTC:20270201T190000
DTSTAMP:20260424T124013
CREATED:20260303T004458Z
LAST-MODIFIED:20260303T004511Z
UID:1648-1801508400-1801508400@villageofmulliken.org
SUMMARY:Council Meeting Town Hall\, 7:00p.m
DESCRIPTION:
URL:https://villageofmulliken.org/event/council-meeting-town-hall-700p-m-23/
END:VEVENT
END:VCALENDAR