BEGIN:VCALENDAR
VERSION:2.0
PRODID:-//Village of Mulliken - ECPv6.15.20//NONSGML v1.0//EN
CALSCALE:GREGORIAN
METHOD:PUBLISH
X-ORIGINAL-URL:https://villageofmulliken.org
X-WR-CALDESC:Events for Village of Mulliken
REFRESH-INTERVAL;VALUE=DURATION:PT1H
X-Robots-Tag:noindex
X-PUBLISHED-TTL:PT1H
BEGIN:VTIMEZONE
TZID:UTC
BEGIN:STANDARD
TZOFFSETFROM:+0000
TZOFFSETTO:+0000
TZNAME:UTC
DTSTART:20220101T000000
END:STANDARD
END:VTIMEZONE
BEGIN:VEVENT
DTSTART;TZID=UTC:20260406T190000
DTEND;TZID=UTC:20260406T190000
DTSTAMP:20260424T142437
CREATED:20260303T002524Z
LAST-MODIFIED:20260303T002524Z
UID:1627-1775502000-1775502000@villageofmulliken.org
SUMMARY:Council Meeting Town Hall\, 7:00p.m.
DESCRIPTION:
URL:https://villageofmulliken.org/event/council-meeting-town-hall-700p-m-14/
END:VEVENT
BEGIN:VEVENT
DTSTART;TZID=UTC:20260308T190000
DTEND;TZID=UTC:20260308T190000
DTSTAMP:20260424T142437
CREATED:20260303T002359Z
LAST-MODIFIED:20260303T002359Z
UID:1625-1772996400-1772996400@villageofmulliken.org
SUMMARY:Council Meeting Town Hall\, 7:00p.m.
DESCRIPTION:
URL:https://villageofmulliken.org/event/council-meeting-town-hall-700p-m-13/
END:VEVENT
BEGIN:VEVENT
DTSTART;TZID=UTC:20260202T190000
DTEND;TZID=UTC:20260202T190000
DTSTAMP:20260424T142437
CREATED:20250107T224615Z
LAST-MODIFIED:20250107T224615Z
UID:1191-1770058800-1770058800@villageofmulliken.org
SUMMARY:Council Meeting\, Town Hall\, 7:00p.m
DESCRIPTION:
URL:https://villageofmulliken.org/event/council-meeting-town-hall-700p-m-12/
END:VEVENT
BEGIN:VEVENT
DTSTART;TZID=UTC:20260105T190000
DTEND;TZID=UTC:20260105T190000
DTSTAMP:20260424T142437
CREATED:20250107T224557Z
LAST-MODIFIED:20250107T224557Z
UID:1190-1767639600-1767639600@villageofmulliken.org
SUMMARY:Council Meeting\, Town Hall\, 7:00p.m
DESCRIPTION:
URL:https://villageofmulliken.org/event/council-meeting-town-hall-700p-m-11/
END:VEVENT
BEGIN:VEVENT
DTSTART;TZID=UTC:20251201T190000
DTEND;TZID=UTC:20251201T190000
DTSTAMP:20260424T142437
CREATED:20250107T224542Z
LAST-MODIFIED:20250107T224542Z
UID:1189-1764615600-1764615600@villageofmulliken.org
SUMMARY:Council Meeting\, Town Hall\, 7:00p.m
DESCRIPTION:
URL:https://villageofmulliken.org/event/council-meeting-town-hall-700p-m-10/
END:VEVENT
BEGIN:VEVENT
DTSTART;TZID=UTC:20251103T190000
DTEND;TZID=UTC:20251103T190000
DTSTAMP:20260424T142437
CREATED:20250107T224529Z
LAST-MODIFIED:20250107T224529Z
UID:1188-1762196400-1762196400@villageofmulliken.org
SUMMARY:Council Meeting\, Town Hall\, 7:00p.m
DESCRIPTION:
URL:https://villageofmulliken.org/event/council-meeting-town-hall-700p-m-9/
END:VEVENT
BEGIN:VEVENT
DTSTART;TZID=UTC:20251006T190000
DTEND;TZID=UTC:20251006T190000
DTSTAMP:20260424T142437
CREATED:20250107T224512Z
LAST-MODIFIED:20250107T224512Z
UID:1187-1759777200-1759777200@villageofmulliken.org
SUMMARY:Council Meeting\, Town Hall\, 7:00p.m
DESCRIPTION:
URL:https://villageofmulliken.org/event/council-meeting-town-hall-700p-m-8/
END:VEVENT
BEGIN:VEVENT
DTSTART;TZID=UTC:20250908T190000
DTEND;TZID=UTC:20250908T190000
DTSTAMP:20260424T142437
CREATED:20250107T224453Z
LAST-MODIFIED:20250107T224453Z
UID:1186-1757358000-1757358000@villageofmulliken.org
SUMMARY:Council Meeting\, Town Hall\, 7:00p.m
DESCRIPTION:
URL:https://villageofmulliken.org/event/council-meeting-town-hall-700p-m-7/
END:VEVENT
BEGIN:VEVENT
DTSTART;TZID=UTC:20250804T190000
DTEND;TZID=UTC:20250804T190000
DTSTAMP:20260424T142437
CREATED:20250107T224433Z
LAST-MODIFIED:20250107T224433Z
UID:1185-1754334000-1754334000@villageofmulliken.org
SUMMARY:Council Meeting\, Town Hall\, 7:00p.m
DESCRIPTION:
URL:https://villageofmulliken.org/event/council-meeting-town-hall-700p-m-6/
END:VEVENT
BEGIN:VEVENT
DTSTART;TZID=UTC:20250707T190000
DTEND;TZID=UTC:20250707T190000
DTSTAMP:20260424T142437
CREATED:20250107T224419Z
LAST-MODIFIED:20250107T224419Z
UID:1184-1751914800-1751914800@villageofmulliken.org
SUMMARY:Council Meeting\, Town Hall\, 7:00p.m
DESCRIPTION:
URL:https://villageofmulliken.org/event/council-meeting-town-hall-700p-m-5/
END:VEVENT
BEGIN:VEVENT
DTSTART;TZID=UTC:20250602T190000
DTEND;TZID=UTC:20250602T190000
DTSTAMP:20260424T142437
CREATED:20250107T224254Z
LAST-MODIFIED:20250107T224254Z
UID:1179-1748890800-1748890800@villageofmulliken.org
SUMMARY:Council Meeting\, Town Hall\, 7:00p.m
DESCRIPTION:
URL:https://villageofmulliken.org/event/council-meeting-town-hall-700p-m-4/
END:VEVENT
BEGIN:VEVENT
DTSTART;TZID=UTC:20250505T190000
DTEND;TZID=UTC:20250505T190000
DTSTAMP:20260424T142437
CREATED:20250107T224228Z
LAST-MODIFIED:20250107T224228Z
UID:1178-1746471600-1746471600@villageofmulliken.org
SUMMARY:Council Meeting\, Town Hall\, 7:00p.m
DESCRIPTION:
URL:https://villageofmulliken.org/event/council-meeting-town-hall-700p-m-3/
END:VEVENT
BEGIN:VEVENT
DTSTART;TZID=UTC:20250407T190000
DTEND;TZID=UTC:20250407T190000
DTSTAMP:20260424T142437
CREATED:20250107T224216Z
LAST-MODIFIED:20250107T224216Z
UID:1177-1744052400-1744052400@villageofmulliken.org
SUMMARY:Council Meeting\, Town Hall\, 7:00p.m
DESCRIPTION:
URL:https://villageofmulliken.org/event/council-meeting-town-hall-700p-m-2/
END:VEVENT
BEGIN:VEVENT
DTSTART;TZID=UTC:20250303T190000
DTEND;TZID=UTC:20250303T190000
DTSTAMP:20260424T142437
CREATED:20250107T224156Z
LAST-MODIFIED:20250107T224156Z
UID:1176-1741028400-1741028400@villageofmulliken.org
SUMMARY:Council Meeting\, Town Hall\, 7:00p.m
DESCRIPTION:
URL:https://villageofmulliken.org/event/council-meeting-town-hall-700p-m/
END:VEVENT
BEGIN:VEVENT
DTSTART;TZID=UTC:20250203T190000
DTEND;TZID=UTC:20250203T190000
DTSTAMP:20260424T142437
CREATED:20240607T184334Z
LAST-MODIFIED:20250107T223945Z
UID:999-1738609200-1738609200@villageofmulliken.org
SUMMARY:Council Meeting\, Town Hall\, 7:00p.m
DESCRIPTION:
URL:https://villageofmulliken.org/event/february-3rd-2025/
END:VEVENT
BEGIN:VEVENT
DTSTART;TZID=UTC:20250106T190000
DTEND;TZID=UTC:20250106T190000
DTSTAMP:20260424T142437
CREATED:20240607T184241Z
LAST-MODIFIED:20240607T184241Z
UID:997-1736190000-1736190000@villageofmulliken.org
SUMMARY:January 6th\, 2025
DESCRIPTION:
URL:https://villageofmulliken.org/event/january-6th-2025/
END:VEVENT
BEGIN:VEVENT
DTSTART;VALUE=DATE:20241221
DTEND;VALUE=DATE:20241222
DTSTAMP:20260424T142437
CREATED:20241220T201340Z
LAST-MODIFIED:20241220T201340Z
UID:1159-1734739200-1734825599@villageofmulliken.org
SUMMARY:Christmas Tree Lighting
DESCRIPTION:
URL:https://villageofmulliken.org/event/christmas-tree-lighting/
LOCATION:Pavillion
END:VEVENT
BEGIN:VEVENT
DTSTART;TZID=UTC:20241202T190000
DTEND;TZID=UTC:20241202T190000
DTSTAMP:20260424T142437
CREATED:20240607T184132Z
LAST-MODIFIED:20240607T184132Z
UID:995-1733166000-1733166000@villageofmulliken.org
SUMMARY:December 2nd 2024
DESCRIPTION:
URL:https://villageofmulliken.org/event/december-2nd-2024/
END:VEVENT
BEGIN:VEVENT
DTSTART;TZID=UTC:20241104T190000
DTEND;TZID=UTC:20241104T190000
DTSTAMP:20260424T142437
CREATED:20240607T184038Z
LAST-MODIFIED:20240607T184038Z
UID:993-1730746800-1730746800@villageofmulliken.org
SUMMARY:November 4th\, 2024
DESCRIPTION:
URL:https://villageofmulliken.org/event/november-4th-2024/
END:VEVENT
BEGIN:VEVENT
DTSTART;TZID=UTC:20241007T190000
DTEND;TZID=UTC:20241007T190000
DTSTAMP:20260424T142437
CREATED:20240607T183950Z
LAST-MODIFIED:20240607T183950Z
UID:991-1728327600-1728327600@villageofmulliken.org
SUMMARY:October 7th\, 2024
DESCRIPTION:
URL:https://villageofmulliken.org/event/october-7th-2024/
END:VEVENT
BEGIN:VEVENT
DTSTART;TZID=UTC:20240909T190000
DTEND;TZID=UTC:20240909T190000
DTSTAMP:20260424T142437
CREATED:20240607T183902Z
LAST-MODIFIED:20240607T183902Z
UID:989-1725908400-1725908400@villageofmulliken.org
SUMMARY:September 9th\, 2024
DESCRIPTION:
URL:https://villageofmulliken.org/event/september-9th-2024/
END:VEVENT
BEGIN:VEVENT
DTSTART;TZID=UTC:20240823T170000
DTEND;TZID=UTC:20240824T000000
DTSTAMP:20260424T142437
CREATED:20240806T170222Z
LAST-MODIFIED:20240806T170222Z
UID:1024-1724432400-1724457600@villageofmulliken.org
SUMMARY:Hotrods & Harleys
DESCRIPTION:
URL:https://villageofmulliken.org/event/hotrods-harleys/
END:VEVENT
BEGIN:VEVENT
DTSTART;TZID=UTC:20240805T190000
DTEND;TZID=UTC:20240805T190000
DTSTAMP:20260424T142437
CREATED:20240607T183803Z
LAST-MODIFIED:20240607T183803Z
UID:987-1722884400-1722884400@villageofmulliken.org
SUMMARY:August 5th\, 2024
DESCRIPTION:
URL:https://villageofmulliken.org/event/august-5th-2024/
END:VEVENT
BEGIN:VEVENT
DTSTART;TZID=UTC:20240701T190000
DTEND;TZID=UTC:20240701T190000
DTSTAMP:20260424T142437
CREATED:20240607T183620Z
LAST-MODIFIED:20240607T183620Z
UID:985-1719860400-1719860400@villageofmulliken.org
SUMMARY:July 1st\, 2024
DESCRIPTION:
URL:https://villageofmulliken.org/event/july-1st-2024/
END:VEVENT
BEGIN:VEVENT
DTSTART;TZID=UTC:20240205T190000
DTEND;TZID=UTC:20240205T190000
DTSTAMP:20260424T142437
CREATED:20230118T044822Z
LAST-MODIFIED:20230118T044822Z
UID:438-1707159600-1707159600@villageofmulliken.org
SUMMARY:February Village Meeting
DESCRIPTION:
URL:https://villageofmulliken.org/event/february-village-meeting-2/
LOCATION:Village Hall\, 263 Main Street\, Mulliken\,\, MI\, 48861\, United States
END:VEVENT
BEGIN:VEVENT
DTSTART;TZID=UTC:20240108T190000
DTEND;TZID=UTC:20240108T190000
DTSTAMP:20260424T142437
CREATED:20230118T044650Z
LAST-MODIFIED:20230118T044716Z
UID:437-1704740400-1704740400@villageofmulliken.org
SUMMARY:January Village Meeting
DESCRIPTION:
URL:https://villageofmulliken.org/event/january-village-meeting-2/
END:VEVENT
BEGIN:VEVENT
DTSTART;TZID=UTC:20231216T090000
DTEND;TZID=UTC:20231216T120000
DTSTAMP:20260424T142437
CREATED:20231207T195139Z
LAST-MODIFIED:20231207T201408Z
UID:810-1702717200-1702728000@villageofmulliken.org
SUMMARY:Food and toy drop off at Roxand Township Fire Hall for Roxand Township families Christmas baskets.
DESCRIPTION:
URL:https://villageofmulliken.org/event/food-and-toy-drop-off-at-roxand-township-fire-hall-for-roxand-township-families-christmas-baskets-2/
END:VEVENT
BEGIN:VEVENT
DTSTART;TZID=UTC:20231209T190000
DTEND;TZID=UTC:20231209T190000
DTSTAMP:20260424T142437
CREATED:20231130T051356Z
LAST-MODIFIED:20231130T184452Z
UID:799-1702148400-1702148400@villageofmulliken.org
SUMMARY:
DESCRIPTION:Annual tree lighting at the pavilion.\nMr and Mrs Claus will be attending
URL:https://villageofmulliken.org/event/december-village-meeting-3/
END:VEVENT
BEGIN:VEVENT
DTSTART;TZID=UTC:20231209T090000
DTEND;TZID=UTC:20231209T120000
DTSTAMP:20260424T142437
CREATED:20231207T195011Z
LAST-MODIFIED:20231207T201416Z
UID:808-1702112400-1702123200@villageofmulliken.org
SUMMARY:Food and toy drop off at Roxand Township Fire Hall for Roxand Township families Christmas baskets
DESCRIPTION:
URL:https://villageofmulliken.org/event/food-and-toy-drop-off-at-roxand-township-fire-hall-for-roxand-township-families-christmas-baskets/
END:VEVENT
BEGIN:VEVENT
DTSTART;TZID=UTC:20231204T190000
DTEND;TZID=UTC:20231204T190000
DTSTAMP:20260424T142437
CREATED:20230118T044613Z
LAST-MODIFIED:20231130T050727Z
UID:436-1701716400-1701716400@villageofmulliken.org
SUMMARY:December Village Meeting
DESCRIPTION:Any concerns with the sale of the Mulliken Thriftway and proposed gas station canopy variance should be addressed at this meeting.
URL:https://villageofmulliken.org/event/december-village-meeting-2/
LOCATION:Village Hall\, 263 Main Street\, Mulliken\,\, MI\, 48861\, United States
END:VEVENT
END:VCALENDAR